BEGIN:VCALENDAR
VERSION:2.0
PRODID:-//Chinese Theatre Works - ECPv6.15.12.1//NONSGML v1.0//EN
CALSCALE:GREGORIAN
METHOD:PUBLISH
X-ORIGINAL-URL:https://chinesetheatreworks.org
X-WR-CALDESC:Events for Chinese Theatre Works
REFRESH-INTERVAL;VALUE=DURATION:PT1H
X-Robots-Tag:noindex
X-PUBLISHED-TTL:PT1H
BEGIN:VTIMEZONE
TZID:America/New_York
BEGIN:DAYLIGHT
TZOFFSETFROM:-0500
TZOFFSETTO:-0400
TZNAME:EDT
DTSTART:20250309T070000
END:DAYLIGHT
BEGIN:STANDARD
TZOFFSETFROM:-0400
TZOFFSETTO:-0500
TZNAME:EST
DTSTART:20251102T060000
END:STANDARD
BEGIN:DAYLIGHT
TZOFFSETFROM:-0500
TZOFFSETTO:-0400
TZNAME:EDT
DTSTART:20260308T070000
END:DAYLIGHT
BEGIN:STANDARD
TZOFFSETFROM:-0400
TZOFFSETTO:-0500
TZNAME:EST
DTSTART:20261101T060000
END:STANDARD
BEGIN:DAYLIGHT
TZOFFSETFROM:-0500
TZOFFSETTO:-0400
TZNAME:EDT
DTSTART:20270314T070000
END:DAYLIGHT
BEGIN:STANDARD
TZOFFSETFROM:-0400
TZOFFSETTO:-0500
TZNAME:EST
DTSTART:20271107T060000
END:STANDARD
END:VTIMEZONE
BEGIN:VEVENT
DTSTART;TZID=America/New_York:20260310T150000
DTEND;TZID=America/New_York:20260310T170000
DTSTAMP:20260420T075442
CREATED:20251104T182107Z
LAST-MODIFIED:20251104T182208Z
UID:10000563-1773154800-1773162000@chinesetheatreworks.org
SUMMARY:Fox Borrows Tiger's Reputation Shadow Puppet Show at Bay Terrace Library
DESCRIPTION:Address: \n18-36 Bell Blvd\, Bayside\, NY 11360
URL:https://chinesetheatreworks.org/event/fox-borrows-tigers-reputation-shadow-puppet-show-at-bay-terrace-library/
END:VEVENT
BEGIN:VEVENT
DTSTART;TZID=America/New_York:20260311T093000
DTEND;TZID=America/New_York:20260311T103000
DTSTAMP:20260420T075442
CREATED:20260305T141639Z
LAST-MODIFIED:20260305T141639Z
UID:10000601-1773221400-1773225000@chinesetheatreworks.org
SUMMARY:Tiger Tales at PS/MS 007 - Samuel Stern School
DESCRIPTION:
URL:https://chinesetheatreworks.org/event/tiger-tales-at-ps-ms-007-samuel-stern-school/
END:VEVENT
BEGIN:VEVENT
DTSTART;TZID=America/New_York:20260317T183000
DTEND;TZID=America/New_York:20260317T203000
DTSTAMP:20260420T075442
CREATED:20260311T152546Z
LAST-MODIFIED:20260311T152546Z
UID:10000602-1773772200-1773779400@chinesetheatreworks.org
SUMMARY:Tiger Tale performance & Lecture at Feitian College
DESCRIPTION:
URL:https://chinesetheatreworks.org/event/tiger-tale-performance-lecture-at-feitian-college/
END:VEVENT
END:VCALENDAR