BEGIN:VCALENDAR
VERSION:2.0
PRODID:-//Chinese Theatre Works - ECPv6.15.12.1//NONSGML v1.0//EN
CALSCALE:GREGORIAN
METHOD:PUBLISH
X-WR-CALNAME:Chinese Theatre Works
X-ORIGINAL-URL:https://chinesetheatreworks.org
X-WR-CALDESC:Events for Chinese Theatre Works
REFRESH-INTERVAL;VALUE=DURATION:PT1H
X-Robots-Tag:noindex
X-PUBLISHED-TTL:PT1H
BEGIN:VTIMEZONE
TZID:America/New_York
BEGIN:DAYLIGHT
TZOFFSETFROM:-0500
TZOFFSETTO:-0400
TZNAME:EDT
DTSTART:20240310T070000
END:DAYLIGHT
BEGIN:STANDARD
TZOFFSETFROM:-0400
TZOFFSETTO:-0500
TZNAME:EST
DTSTART:20241103T060000
END:STANDARD
BEGIN:DAYLIGHT
TZOFFSETFROM:-0500
TZOFFSETTO:-0400
TZNAME:EDT
DTSTART:20250309T070000
END:DAYLIGHT
BEGIN:STANDARD
TZOFFSETFROM:-0400
TZOFFSETTO:-0500
TZNAME:EST
DTSTART:20251102T060000
END:STANDARD
BEGIN:DAYLIGHT
TZOFFSETFROM:-0500
TZOFFSETTO:-0400
TZNAME:EDT
DTSTART:20260308T070000
END:DAYLIGHT
BEGIN:STANDARD
TZOFFSETFROM:-0400
TZOFFSETTO:-0500
TZNAME:EST
DTSTART:20261101T060000
END:STANDARD
END:VTIMEZONE
BEGIN:VEVENT
DTSTART;TZID=America/New_York:20251103T103000
DTEND;TZID=America/New_York:20251103T113000
DTSTAMP:20260419T085823
CREATED:20251021T175927Z
LAST-MODIFIED:20251021T175927Z
UID:10000557-1762165800-1762169400@chinesetheatreworks.org
SUMMARY:Hao Bang Ah! Snake! for Sky Farm LIC
DESCRIPTION:
URL:https://chinesetheatreworks.org/event/hao-bang-ah-snake-for-sky-farm-lic/
END:VEVENT
BEGIN:VEVENT
DTSTART;TZID=America/New_York:20251103T200000
DTEND;TZID=America/New_York:20251103T220000
DTSTAMP:20260419T085823
CREATED:20251029T154417Z
LAST-MODIFIED:20251029T154417Z
UID:10000558-1762200000-1762207200@chinesetheatreworks.org
SUMMARY:Chicago International Puppet Theatre Festival: 5 week Online Introduction to Shadow Theatre Workshops
DESCRIPTION:A minimum enrollment is required for this workshop. If the minimum number of participants is not met\, the workshop may be canceled or rescheduled..
URL:https://chinesetheatreworks.org/event/chicago-international-puppet-theatre-festival-5-week-online-introduction-to-shadow-theatre-workshops/2025-11-03/
END:VEVENT
BEGIN:VEVENT
DTSTART;TZID=America/New_York:20251105T200000
DTEND;TZID=America/New_York:20251105T220000
DTSTAMP:20260419T085823
CREATED:20251029T154417Z
LAST-MODIFIED:20251029T154417Z
UID:10000559-1762372800-1762380000@chinesetheatreworks.org
SUMMARY:Chicago International Puppet Theatre Festival: 5 week Online Introduction to Shadow Theatre Workshops
DESCRIPTION:A minimum enrollment is required for this workshop. If the minimum number of participants is not met\, the workshop may be canceled or rescheduled..
URL:https://chinesetheatreworks.org/event/chicago-international-puppet-theatre-festival-5-week-online-introduction-to-shadow-theatre-workshops/2025-11-05/
END:VEVENT
BEGIN:VEVENT
DTSTART;TZID=America/New_York:20251112T200000
DTEND;TZID=America/New_York:20251112T220000
DTSTAMP:20260419T085823
CREATED:20251029T154417Z
LAST-MODIFIED:20251029T154417Z
UID:10000560-1762977600-1762984800@chinesetheatreworks.org
SUMMARY:Chicago International Puppet Theatre Festival: 5 week Online Introduction to Shadow Theatre Workshops
DESCRIPTION:A minimum enrollment is required for this workshop. If the minimum number of participants is not met\, the workshop may be canceled or rescheduled..
URL:https://chinesetheatreworks.org/event/chicago-international-puppet-theatre-festival-5-week-online-introduction-to-shadow-theatre-workshops/2025-11-12/
END:VEVENT
BEGIN:VEVENT
DTSTART;TZID=America/New_York:20251115T130000
DTEND;TZID=America/New_York:20251115T133000
DTSTAMP:20260419T085823
CREATED:20251103T214954Z
LAST-MODIFIED:20251103T214954Z
UID:10000562-1763211600-1763213400@chinesetheatreworks.org
SUMMARY:Two Person Tiger Tales at Brooklyn Library - Cortelyou Branch
DESCRIPTION:Address: 1305 Cortelyou Rd. at\, Argyle Rd\, Brooklyn\, NY 11226
URL:https://chinesetheatreworks.org/event/two-person-tiger-tales-at-brooklyn-library-cortelyou-branch/
END:VEVENT
BEGIN:VEVENT
DTSTART;TZID=America/New_York:20251117T200000
DTEND;TZID=America/New_York:20251117T220000
DTSTAMP:20260419T085823
CREATED:20251029T154417Z
LAST-MODIFIED:20251029T154417Z
UID:10000561-1763409600-1763416800@chinesetheatreworks.org
SUMMARY:Chicago International Puppet Theatre Festival: 5 week Online Introduction to Shadow Theatre Workshops
DESCRIPTION:A minimum enrollment is required for this workshop. If the minimum number of participants is not met\, the workshop may be canceled or rescheduled..
URL:https://chinesetheatreworks.org/event/chicago-international-puppet-theatre-festival-5-week-online-introduction-to-shadow-theatre-workshops/2025-11-17/
END:VEVENT
END:VCALENDAR