BEGIN:VCALENDAR
VERSION:2.0
PRODID:-//Chinese Theatre Works - ECPv6.15.12.1//NONSGML v1.0//EN
CALSCALE:GREGORIAN
METHOD:PUBLISH
X-ORIGINAL-URL:https://chinesetheatreworks.org
X-WR-CALDESC:Events for Chinese Theatre Works
REFRESH-INTERVAL;VALUE=DURATION:PT1H
X-Robots-Tag:noindex
X-PUBLISHED-TTL:PT1H
BEGIN:VTIMEZONE
TZID:America/New_York
BEGIN:DAYLIGHT
TZOFFSETFROM:-0500
TZOFFSETTO:-0400
TZNAME:EDT
DTSTART:20240310T070000
END:DAYLIGHT
BEGIN:STANDARD
TZOFFSETFROM:-0400
TZOFFSETTO:-0500
TZNAME:EST
DTSTART:20241103T060000
END:STANDARD
BEGIN:DAYLIGHT
TZOFFSETFROM:-0500
TZOFFSETTO:-0400
TZNAME:EDT
DTSTART:20250309T070000
END:DAYLIGHT
BEGIN:STANDARD
TZOFFSETFROM:-0400
TZOFFSETTO:-0500
TZNAME:EST
DTSTART:20251102T060000
END:STANDARD
BEGIN:DAYLIGHT
TZOFFSETFROM:-0500
TZOFFSETTO:-0400
TZNAME:EDT
DTSTART:20260308T070000
END:DAYLIGHT
BEGIN:STANDARD
TZOFFSETFROM:-0400
TZOFFSETTO:-0500
TZNAME:EST
DTSTART:20261101T060000
END:STANDARD
END:VTIMEZONE
BEGIN:VEVENT
DTSTART;TZID=America/New_York:20250803T103000
DTEND;TZID=America/New_York:20250803T133000
DTSTAMP:20260421T013147
CREATED:20250304T184831Z
LAST-MODIFIED:20250722T212511Z
UID:10000469-1754217000-1754227800@chinesetheatreworks.org
SUMMARY:Hao Bang Ah! Snake! at The Battery Conservancy
DESCRIPTION:Address: \nBOSQUE GARDENS IN BATTERY PARK
URL:https://chinesetheatreworks.org/event/hao-bang-ah-snake-at-the-battery-conservancy/
END:VEVENT
BEGIN:VEVENT
DTSTART;TZID=America/New_York:20250806T103000
DTEND;TZID=America/New_York:20250806T114500
DTSTAMP:20260421T013147
CREATED:20250715T200526Z
LAST-MODIFIED:20250715T200526Z
UID:10000545-1754476200-1754480700@chinesetheatreworks.org
SUMMARY:Shadow Puppet Workshop at China Institute
DESCRIPTION:Address: 40 Rector St\, New York\, NY 10006
URL:https://chinesetheatreworks.org/event/shadow-puppet-workshop-at-china-institute/
END:VEVENT
BEGIN:VEVENT
DTSTART;TZID=America/New_York:20250816T143000
DTEND;TZID=America/New_York:20250816T154500
DTSTAMP:20260421T013147
CREATED:20250715T194946Z
LAST-MODIFIED:20250715T194946Z
UID:10000544-1755354600-1755359100@chinesetheatreworks.org
SUMMARY:50th Anniversary Event - Chinese Theatre Works Lecture at Chinese American Academy and Professional Society (CAAPS)
DESCRIPTION:ADDRESS: Sheraton Laguardia East Hotel 135-20 39th Ave\, Flushing\, NY 11354
URL:https://chinesetheatreworks.org/event/50th-anniversary-event-chinese-theatre-works-lecture-at-chinese-american-academy-and-professional-society-caaps/
END:VEVENT
END:VCALENDAR