BEGIN:VCALENDAR
VERSION:2.0
PRODID:-//Chinese Theatre Works - ECPv6.15.12.1//NONSGML v1.0//EN
CALSCALE:GREGORIAN
METHOD:PUBLISH
X-WR-CALNAME:Chinese Theatre Works
X-ORIGINAL-URL:https://chinesetheatreworks.org
X-WR-CALDESC:Events for Chinese Theatre Works
REFRESH-INTERVAL;VALUE=DURATION:PT1H
X-Robots-Tag:noindex
X-PUBLISHED-TTL:PT1H
BEGIN:VTIMEZONE
TZID:America/New_York
BEGIN:DAYLIGHT
TZOFFSETFROM:-0500
TZOFFSETTO:-0400
TZNAME:EDT
DTSTART:20240310T070000
END:DAYLIGHT
BEGIN:STANDARD
TZOFFSETFROM:-0400
TZOFFSETTO:-0500
TZNAME:EST
DTSTART:20241103T060000
END:STANDARD
BEGIN:DAYLIGHT
TZOFFSETFROM:-0500
TZOFFSETTO:-0400
TZNAME:EDT
DTSTART:20250309T070000
END:DAYLIGHT
BEGIN:STANDARD
TZOFFSETFROM:-0400
TZOFFSETTO:-0500
TZNAME:EST
DTSTART:20251102T060000
END:STANDARD
BEGIN:DAYLIGHT
TZOFFSETFROM:-0500
TZOFFSETTO:-0400
TZNAME:EDT
DTSTART:20260308T070000
END:DAYLIGHT
BEGIN:STANDARD
TZOFFSETFROM:-0400
TZOFFSETTO:-0500
TZNAME:EST
DTSTART:20261101T060000
END:STANDARD
END:VTIMEZONE
BEGIN:VEVENT
DTSTART;TZID=America/New_York:20250303T200000
DTEND;TZID=America/New_York:20250303T220000
DTSTAMP:20260413T034342
CREATED:20240927T194522Z
LAST-MODIFIED:20240927T194522Z
UID:10000424-1741032000-1741039200@chinesetheatreworks.org
SUMMARY:Online Shadow Theatre Workshop 1 for Chicago International Puppet Theatre Festival
DESCRIPTION:
URL:https://chinesetheatreworks.org/event/online-shadow-theatre-workshop-1-for-chicago-international-puppet-theatre-festival/2025-03-03/
END:VEVENT
BEGIN:VEVENT
DTSTART;TZID=America/New_York:20250304T200000
DTEND;TZID=America/New_York:20250304T220000
DTSTAMP:20260413T034342
CREATED:20240927T194522Z
LAST-MODIFIED:20240927T194522Z
UID:10000425-1741118400-1741125600@chinesetheatreworks.org
SUMMARY:Online Shadow Theatre Workshop 1 for Chicago International Puppet Theatre Festival
DESCRIPTION:
URL:https://chinesetheatreworks.org/event/online-shadow-theatre-workshop-1-for-chicago-international-puppet-theatre-festival/2025-03-04/
END:VEVENT
BEGIN:VEVENT
DTSTART;TZID=America/New_York:20250306T200000
DTEND;TZID=America/New_York:20250306T220000
DTSTAMP:20260413T034342
CREATED:20240927T194522Z
LAST-MODIFIED:20240927T194522Z
UID:10000426-1741291200-1741298400@chinesetheatreworks.org
SUMMARY:Online Shadow Theatre Workshop 1 for Chicago International Puppet Theatre Festival
DESCRIPTION:
URL:https://chinesetheatreworks.org/event/online-shadow-theatre-workshop-1-for-chicago-international-puppet-theatre-festival/2025-03-06/
END:VEVENT
BEGIN:VEVENT
DTSTART;TZID=America/New_York:20250308T200000
DTEND;TZID=America/New_York:20250308T220000
DTSTAMP:20260413T034342
CREATED:20240927T194522Z
LAST-MODIFIED:20240927T194522Z
UID:10000427-1741464000-1741471200@chinesetheatreworks.org
SUMMARY:Online Shadow Theatre Workshop 1 for Chicago International Puppet Theatre Festival
DESCRIPTION:
URL:https://chinesetheatreworks.org/event/online-shadow-theatre-workshop-1-for-chicago-international-puppet-theatre-festival/2025-03-08/
END:VEVENT
BEGIN:VEVENT
DTSTART;TZID=America/New_York:20250309T200000
DTEND;TZID=America/New_York:20250309T220000
DTSTAMP:20260413T034342
CREATED:20250304T185400Z
LAST-MODIFIED:20250304T185400Z
UID:10000470-1741550400-1741557600@chinesetheatreworks.org
SUMMARY:Online Shadow Theatre Workshop 1 for Chicago International Puppet Theatre Festival
DESCRIPTION:
URL:https://chinesetheatreworks.org/event/online-shadow-theatre-workshop-1-for-chicago-international-puppet-theatre-festival-2/
END:VEVENT
BEGIN:VEVENT
DTSTART;TZID=America/New_York:20250311T140000
DTEND;TZID=America/New_York:20250311T151500
DTSTAMP:20260413T034342
CREATED:20250213T182841Z
LAST-MODIFIED:20250213T182841Z
UID:10000466-1741701600-1741706100@chinesetheatreworks.org
SUMMARY:Budaixi Hand Puppet show & workshop at University of Connecticut
DESCRIPTION:
URL:https://chinesetheatreworks.org/event/budaixi-hand-puppet-show-workshop-at-university-of-connecticut/
END:VEVENT
BEGIN:VEVENT
DTSTART;TZID=America/New_York:20250314T080000
DTEND;TZID=America/New_York:20250314T170000
DTSTAMP:20260413T034342
CREATED:20250226T211238Z
LAST-MODIFIED:20250226T211238Z
UID:10000468-1741939200-1741971600@chinesetheatreworks.org
SUMMARY:Purim Video Screening for Solomon Schechter Day School
DESCRIPTION:
URL:https://chinesetheatreworks.org/event/purim-video-screening-for-solomon-schechter-day-school/
END:VEVENT
BEGIN:VEVENT
DTSTART;TZID=America/New_York:20250314T110000
DTEND;TZID=America/New_York:20250314T120000
DTSTAMP:20260413T034342
CREATED:20250304T185906Z
LAST-MODIFIED:20250304T185906Z
UID:10000471-1741950000-1741953600@chinesetheatreworks.org
SUMMARY:Hand Puppet Show – Hao Bang Ah Snake for Harlem Children's Zone
DESCRIPTION:
URL:https://chinesetheatreworks.org/event/hand-puppet-show-hao-bang-ah-snake-for-harlem-childrens-zone/
END:VEVENT
BEGIN:VEVENT
DTSTART;TZID=America/New_York:20250320T113000
DTEND;TZID=America/New_York:20250320T133000
DTSTAMP:20260413T034342
CREATED:20250226T163616Z
LAST-MODIFIED:20250226T163616Z
UID:10000467-1742470200-1742477400@chinesetheatreworks.org
SUMMARY:Tiger Tales & International Shadow Theatre Lecture for Germantown Friends School (visiting from PA)
DESCRIPTION:
URL:https://chinesetheatreworks.org/event/tiger-tales-international-shadow-theatre-lecture-for-germantown-friends-school-visiting-from-pa/
END:VEVENT
END:VCALENDAR