BEGIN:VCALENDAR
VERSION:2.0
PRODID:-//Chinese Theatre Works - ECPv6.15.12.1//NONSGML v1.0//EN
CALSCALE:GREGORIAN
METHOD:PUBLISH
X-WR-CALNAME:Chinese Theatre Works
X-ORIGINAL-URL:https://chinesetheatreworks.org
X-WR-CALDESC:Events for Chinese Theatre Works
REFRESH-INTERVAL;VALUE=DURATION:PT1H
X-Robots-Tag:noindex
X-PUBLISHED-TTL:PT1H
BEGIN:VTIMEZONE
TZID:America/New_York
BEGIN:DAYLIGHT
TZOFFSETFROM:-0500
TZOFFSETTO:-0400
TZNAME:EDT
DTSTART:20240310T070000
END:DAYLIGHT
BEGIN:STANDARD
TZOFFSETFROM:-0400
TZOFFSETTO:-0500
TZNAME:EST
DTSTART:20241103T060000
END:STANDARD
BEGIN:DAYLIGHT
TZOFFSETFROM:-0500
TZOFFSETTO:-0400
TZNAME:EDT
DTSTART:20250309T070000
END:DAYLIGHT
BEGIN:STANDARD
TZOFFSETFROM:-0400
TZOFFSETTO:-0500
TZNAME:EST
DTSTART:20251102T060000
END:STANDARD
BEGIN:DAYLIGHT
TZOFFSETFROM:-0500
TZOFFSETTO:-0400
TZNAME:EDT
DTSTART:20260308T070000
END:DAYLIGHT
BEGIN:STANDARD
TZOFFSETFROM:-0400
TZOFFSETTO:-0500
TZNAME:EST
DTSTART:20261101T060000
END:STANDARD
END:VTIMEZONE
BEGIN:VEVENT
DTSTART;TZID=America/New_York:20250118T080000
DTEND;TZID=America/New_York:20250223T170000
DTSTAMP:20260413T034538
CREATED:20250113T211049Z
LAST-MODIFIED:20250113T211049Z
UID:10000446-1737187200-1740330000@chinesetheatreworks.org
SUMMARY:Pauline Benton Exhibit  at Flushing Town Hall
DESCRIPTION:Location: \n137-35 Northern Blvd\, Flushing\, NY 11354 \n 
URL:https://chinesetheatreworks.org/event/pauline-benton-exhibit-at-flushing-town-hall/
END:VEVENT
BEGIN:VEVENT
DTSTART;TZID=America/New_York:20250201T133000
DTEND;TZID=America/New_York:20250201T140000
DTSTAMP:20260413T034538
CREATED:20250115T221609Z
LAST-MODIFIED:20250115T221609Z
UID:10000448-1738416600-1738418400@chinesetheatreworks.org
SUMMARY:Two-Person Shadow Theatre Performance at Dobbs Ferry Library
DESCRIPTION:Location: 55 Main St Dobbs Ferry\, NY 10522
URL:https://chinesetheatreworks.org/event/two-person-shadow-theatre-performance-at-dobbs-ferry-library/
END:VEVENT
BEGIN:VEVENT
DTSTART;TZID=America/New_York:20250202T113000
DTEND;TZID=America/New_York:20250202T120000
DTSTAMP:20260413T034538
CREATED:20250109T191826Z
LAST-MODIFIED:20250110T165443Z
UID:10000444-1738495800-1738497600@chinesetheatreworks.org
SUMMARY:Zhongkui for Glow Center
DESCRIPTION:Location: \n\n\n\n\n\n\n\n\n\n\n\n\n\n\nParade from NY Flushing Town Hall to Library Round trip
URL:https://chinesetheatreworks.org/event/zhongkui-for-glow-center/
END:VEVENT
BEGIN:VEVENT
DTSTART;TZID=America/New_York:20250202T130000
DTEND;TZID=America/New_York:20250202T132000
DTSTAMP:20260413T034538
CREATED:20250115T221800Z
LAST-MODIFIED:20250115T221800Z
UID:10000449-1738501200-1738502400@chinesetheatreworks.org
SUMMARY:Tiger Tales at Edgemont Chinese Association
DESCRIPTION:
URL:https://chinesetheatreworks.org/event/tiger-tales-at-edgemont-chinese-association/
END:VEVENT
BEGIN:VEVENT
DTSTART;TZID=America/New_York:20250203T100000
DTEND;TZID=America/New_York:20250203T104500
DTSTAMP:20260413T034538
CREATED:20250128T221238Z
LAST-MODIFIED:20250128T221238Z
UID:10000456-1738576800-1738579500@chinesetheatreworks.org
SUMMARY:Hao Bang Ah! Snake! at Hudson Way Immersion School
DESCRIPTION:Location: \n525 W 52nd St\, New York\, NY 10019
URL:https://chinesetheatreworks.org/event/hao-bang-ah-snake-at-hudson-way-immersion-school/
END:VEVENT
BEGIN:VEVENT
DTSTART;TZID=America/New_York:20250205T080000
DTEND;TZID=America/New_York:20250205T110000
DTSTAMP:20260413T034538
CREATED:20250115T222145Z
LAST-MODIFIED:20250115T222247Z
UID:10000450-1738742400-1738753200@chinesetheatreworks.org
SUMMARY:Tiger Tales at The Arturo Toscanini School (PS 216)
DESCRIPTION:
URL:https://chinesetheatreworks.org/event/tiger-tales-at-the-arturo-toscanini-school-ps-216/
END:VEVENT
BEGIN:VEVENT
DTSTART;TZID=America/New_York:20250206T130000
DTEND;TZID=America/New_York:20250206T140000
DTSTAMP:20260413T034538
CREATED:20250129T144604Z
LAST-MODIFIED:20250129T144604Z
UID:10000457-1738846800-1738850400@chinesetheatreworks.org
SUMMARY:Hao Bang Ah! Snake!  at Jefferson’s Ferry
DESCRIPTION:
URL:https://chinesetheatreworks.org/event/hao-bang-ah-snake-at-jeffersons-ferry/
END:VEVENT
BEGIN:VEVENT
DTSTART;TZID=America/New_York:20250208T110000
DTEND;TZID=America/New_York:20250208T170000
DTSTAMP:20260413T034538
CREATED:20240919T180604Z
LAST-MODIFIED:20240919T180604Z
UID:10000408-1739012400-1739034000@chinesetheatreworks.org
SUMMARY:Hao Bang Ah Snake Performance at Norton Museum
DESCRIPTION:Address: \n1450 S Dixie Hwy\, West Palm Beach\, FL 33401
URL:https://chinesetheatreworks.org/event/hao-bang-ah-snake-performance-at-norton-museum/
END:VEVENT
BEGIN:VEVENT
DTSTART;TZID=America/New_York:20250208T130000
DTEND;TZID=America/New_York:20250208T134500
DTSTAMP:20260413T034538
CREATED:20250129T145311Z
LAST-MODIFIED:20250129T145311Z
UID:10000459-1739019600-1739022300@chinesetheatreworks.org
SUMMARY:Shadow Theatre Lecture/Demo at Brooklyn Public Library - Sunset Park Branch
DESCRIPTION:Location: 5108 4th Ave\, Brooklyn\, NY 11220
URL:https://chinesetheatreworks.org/event/shadow-theatre-lecture-demo-at-brooklyn-public-library-sunset-park-branch/
END:VEVENT
BEGIN:VEVENT
DTSTART;TZID=America/New_York:20250213T160000
DTEND;TZID=America/New_York:20250213T170000
DTSTAMP:20260413T034538
CREATED:20241023T212120Z
LAST-MODIFIED:20241023T212120Z
UID:10000433-1739462400-1739466000@chinesetheatreworks.org
SUMMARY:Fox Borrows Tiger's Reputation Shadow Puppet Show & Workshops at Jackson Heights Library
DESCRIPTION:Location: 35-51 81st St\, Jackson Heights\, NY 11372
URL:https://chinesetheatreworks.org/event/fox-borrows-tigers-reputation-shadow-puppet-show-workshops-at-jackson-heights-library/
END:VEVENT
BEGIN:VEVENT
DTSTART;TZID=America/New_York:20250214T173000
DTEND;TZID=America/New_York:20250214T203000
DTSTAMP:20260413T034538
CREATED:20250129T144956Z
LAST-MODIFIED:20250129T144956Z
UID:10000458-1739554200-1739565000@chinesetheatreworks.org
SUMMARY:Hao Bang Ah! Snake! at PPSEAWA (Taipei Economic & Cultural Office in New York)
DESCRIPTION:
URL:https://chinesetheatreworks.org/event/hao-bang-ah-snake-at-ppseawa-taipei-economic-cultural-office-in-new-york/
END:VEVENT
BEGIN:VEVENT
DTSTART;TZID=America/New_York:20250215T130000
DTEND;TZID=America/New_York:20250215T140000
DTSTAMP:20260413T034538
CREATED:20250115T222407Z
LAST-MODIFIED:20250115T222407Z
UID:10000451-1739624400-1739628000@chinesetheatreworks.org
SUMMARY:Hao Bang Ah Snake at Flushing Town Hall
DESCRIPTION:Location: 137-35 Northern Blvd\, Flushing\, NY 11354
URL:https://chinesetheatreworks.org/event/hao-bang-ah-snake-at-flushing-town-hall/
END:VEVENT
BEGIN:VEVENT
DTSTART;TZID=America/New_York:20250218T150000
DTEND;TZID=America/New_York:20250218T160000
DTSTAMP:20260413T034538
CREATED:20241219T195014Z
LAST-MODIFIED:20241219T195014Z
UID:10000439-1739890800-1739894400@chinesetheatreworks.org
SUMMARY:Fox Borrows Tiger's Reputation Shadow Puppet Show at Woodside Library
DESCRIPTION:Location: 54-22 Skillman Ave\, Woodside\, NY 11377
URL:https://chinesetheatreworks.org/event/fox-borrows-tigers-reputation-shadow-puppet-show-at-woodside-library/
END:VEVENT
BEGIN:VEVENT
DTSTART;TZID=America/New_York:20250219T100000
DTEND;TZID=America/New_York:20250219T170000
DTSTAMP:20260413T034538
CREATED:20250207T192531Z
LAST-MODIFIED:20250207T192531Z
UID:10000463-1739959200-1739984400@chinesetheatreworks.org
SUMMARY:2 Short Performances and an international shadow theatre demonstration for Fitch group on Zoom
DESCRIPTION:
URL:https://chinesetheatreworks.org/event/2-short-performances-and-an-international-shadow-theatre-demonstration-for-fitch-group-on-zoom/
END:VEVENT
END:VCALENDAR