BEGIN:VCALENDAR
VERSION:2.0
PRODID:-//Chinese Theatre Works - ECPv6.15.12.1//NONSGML v1.0//EN
CALSCALE:GREGORIAN
METHOD:PUBLISH
X-WR-CALNAME:Chinese Theatre Works
X-ORIGINAL-URL:https://chinesetheatreworks.org
X-WR-CALDESC:Events for Chinese Theatre Works
REFRESH-INTERVAL;VALUE=DURATION:PT1H
X-Robots-Tag:noindex
X-PUBLISHED-TTL:PT1H
BEGIN:VTIMEZONE
TZID:America/New_York
BEGIN:DAYLIGHT
TZOFFSETFROM:-0500
TZOFFSETTO:-0400
TZNAME:EDT
DTSTART:20210314T070000
END:DAYLIGHT
BEGIN:STANDARD
TZOFFSETFROM:-0400
TZOFFSETTO:-0500
TZNAME:EST
DTSTART:20211107T060000
END:STANDARD
BEGIN:DAYLIGHT
TZOFFSETFROM:-0500
TZOFFSETTO:-0400
TZNAME:EDT
DTSTART:20220313T070000
END:DAYLIGHT
BEGIN:STANDARD
TZOFFSETFROM:-0400
TZOFFSETTO:-0500
TZNAME:EST
DTSTART:20221106T060000
END:STANDARD
BEGIN:DAYLIGHT
TZOFFSETFROM:-0500
TZOFFSETTO:-0400
TZNAME:EDT
DTSTART:20230312T070000
END:DAYLIGHT
BEGIN:STANDARD
TZOFFSETFROM:-0400
TZOFFSETTO:-0500
TZNAME:EST
DTSTART:20231105T060000
END:STANDARD
END:VTIMEZONE
BEGIN:VEVENT
DTSTART;TZID=America/New_York:20221012T102500
DTEND;TZID=America/New_York:20221012T114000
DTSTAMP:20260420T025517
CREATED:20221005T203851Z
LAST-MODIFIED:20221013T145034Z
UID:10000280-1665570300-1665574800@chinesetheatreworks.org
SUMMARY:Drew University in Madison NJ
DESCRIPTION:CTW will teach class covering the history\, artistry and movements of Peking Opera. \n“Not open to general public”
URL:https://chinesetheatreworks.org/event/drew-university-in-madison-nj/
END:VEVENT
BEGIN:VEVENT
DTSTART;TZID=America/New_York:20221009T200000
DTEND;TZID=America/New_York:20221009T220000
DTSTAMP:20260420T025517
CREATED:20220922T182346Z
LAST-MODIFIED:20221004T212433Z
UID:10000269-1665345600-1665352800@chinesetheatreworks.org
SUMMARY:Shadow Puppetry I Workshop at Chicago International Puppet Theater Festival
DESCRIPTION:ONLINE \nShadow Puppetry 1 (Level 1) is an introduction to the form for the beginning puppeteer. Students will create a desktop shadow theater\, build and create basic shadow figures and environments and devise their own short pieces with music or text. An overview of world shadow puppetry traditions is included as well as an introduction to light sources and fabrication. The course makes use of basic materials including home recyclables. \nClasses are October 3rd\, 4th\, 6th\, 7th\, 9th 8pm-10pm EST \nLink to register: https://chicagopuppetfest.org/fall-2022-workshops/
URL:https://chinesetheatreworks.org/event/shadow-puppetry-i-workshop-at-chicago-international-puppet-theater-festival/
END:VEVENT
BEGIN:VEVENT
DTSTART;TZID=America/New_York:20221009T130000
DTEND;TZID=America/New_York:20221009T140000
DTSTAMP:20260420T025517
CREATED:20221005T202713Z
LAST-MODIFIED:20221005T203430Z
UID:10000281-1665320400-1665324000@chinesetheatreworks.org
SUMMARY:Puppet Homecoming NE Regional Festival 2022
DESCRIPTION:CTW Executive & Co-Artistic Director\, Kuang Yu-Fong\, joins in on a panel discussing pageant puppetry. \nLocation: Coney Island Museum \nhttps://www.puppeteers.org/puppet-homecoming/
URL:https://chinesetheatreworks.org/event/puppet-homecoming-ne-regional-festival-2022/
END:VEVENT
BEGIN:VEVENT
DTSTART;TZID=America/New_York:20221008T190000
DTEND;TZID=America/New_York:20221008T220000
DTSTAMP:20260420T025517
CREATED:20221005T202235Z
LAST-MODIFIED:20221005T202235Z
UID:10000282-1665255600-1665266400@chinesetheatreworks.org
SUMMARY:Puppet Homecoming NE Regional Festival 2022 (GSW)
DESCRIPTION:CTW will perform Triple Zhongkui Pageant \nTriple Zhongkui Pageant is a unique piece of theater that blends several CTW performance styles. This production is at once a lively piece of bilingual street theater\, a demonstration of a 500 year old performance tradition\, and a slice of ridiculous political satire\nLocation: Coney Island Museum
URL:https://chinesetheatreworks.org/event/puppet-homecoming-ne-regional-festival-2022-gsw/
END:VEVENT
BEGIN:VEVENT
DTSTART;TZID=America/New_York:20221008T110000
DTEND;TZID=America/New_York:20221008T150000
DTSTAMP:20260420T025517
CREATED:20220908T215657Z
LAST-MODIFIED:20221004T214113Z
UID:10000271-1665226800-1665241200@chinesetheatreworks.org
SUMMARY:Taipei Cultural Center of Economic and Cultural Office in New York
DESCRIPTION:Event Title: Celebrate Independence Day of republic of China \nLocation: PS 20 (Cafeteria – Main Student Café West 3rd Floor) \nHands on workshop for shadow theater and hand puppets theater\, all ages welcome
URL:https://chinesetheatreworks.org/event/culture-center-of-taipei-economic-and-cultural-office-in-new-york/
LOCATION:Culture Center of Taipei Economic and Cultural Office in New York\, PS 20 (Cafeteria – Main Student Café West 3rd Floor)
END:VEVENT
BEGIN:VEVENT
DTSTART;TZID=America/New_York:20221007T200000
DTEND;TZID=America/New_York:20221007T220000
DTSTAMP:20260420T025517
CREATED:20221005T201323Z
LAST-MODIFIED:20221005T201323Z
UID:10000283-1665172800-1665180000@chinesetheatreworks.org
SUMMARY:Shadow Puppetry I Workshop at Chicago International Puppet Theater Festival
DESCRIPTION:ONLINE \nShadow Puppetry 1 (Level 1) is an introduction to the form for the beginning puppeteer. Students will create a desktop shadow theater\, build and create basic shadow figures and environments and devise their own short pieces with music or text. An overview of world shadow puppetry traditions is included as well as an introduction to light sources and fabrication. The course makes use of basic materials including home recyclables. \nClasses are October 3rd\, 4th\, 6th\, 7th\, 9th 8pm-10pm EST \nLink to register: https://chicagopuppetfest.org/fall-2022-workshops/
URL:https://chinesetheatreworks.org/event/shadow-puppetry-i-workshop-at-chicago-international-puppet-theater-festival-6/
END:VEVENT
BEGIN:VEVENT
DTSTART;TZID=America/New_York:20221007T150000
DTEND;TZID=America/New_York:20221007T160000
DTSTAMP:20260420T025517
CREATED:20221004T213437Z
LAST-MODIFIED:20221005T200902Z
UID:10000284-1665154800-1665158400@chinesetheatreworks.org
SUMMARY:Puppet Homecoming NE Regional Festival 2022
DESCRIPTION:CTW Co-Artistic Director\, Stephen Kaplin\, joins in on a panel discussing pageant puppetry.\nLocation: Coney Island Museum \nhttps://www.puppeteers.org/puppet-homecoming/
URL:https://chinesetheatreworks.org/event/shadow-puppetry-i-workshop-at-chicago-international-puppet-theater-festival-5/
END:VEVENT
BEGIN:VEVENT
DTSTART;TZID=America/New_York:20221006T200000
DTEND;TZID=America/New_York:20221006T220000
DTSTAMP:20260420T025517
CREATED:20220922T182620Z
LAST-MODIFIED:20221004T212612Z
UID:10000286-1665086400-1665093600@chinesetheatreworks.org
SUMMARY:Shadow Puppetry I Workshop at Chicago International Puppet Theater Festival
DESCRIPTION:ONLINE \nShadow Puppetry 1 (Level 1) is an introduction to the form for the beginning puppeteer. Students will create a desktop shadow theater\, build and create basic shadow figures and environments and devise their own short pieces with music or text. An overview of world shadow puppetry traditions is included as well as an introduction to light sources and fabrication. The course makes use of basic materials including home recyclables. \nClasses are October 3rd\, 4th\, 6th\, 7th\, 9th 8pm-10pm EST \nLink to register: https://chicagopuppetfest.org/fall-2022-workshops/
URL:https://chinesetheatreworks.org/event/shadow-puppetry-i-workshop-at-chicago-international-puppet-theater-festival-4/
END:VEVENT
BEGIN:VEVENT
DTSTART;TZID=America/New_York:20221004T200000
DTEND;TZID=America/New_York:20221004T220000
DTSTAMP:20260420T025517
CREATED:20220922T182551Z
LAST-MODIFIED:20221004T212921Z
UID:10000287-1664913600-1664920800@chinesetheatreworks.org
SUMMARY:Shadow Puppetry I Workshop at Chicago International Puppet Theater Festival
DESCRIPTION:ONLINE \nShadow Puppetry 1 (Level 1) is an introduction to the form for the beginning puppeteer. Students will create a desktop shadow theater\, build and create basic shadow figures and environments and devise their own short pieces with music or text. An overview of world shadow puppetry traditions is included as well as an introduction to light sources and fabrication. The course makes use of basic materials including home recyclables. \nClasses are October 3rd\, 4th\, 6th\, 7th\, 9th 8pm-10pm EST \nLink to register: https://chicagopuppetfest.org/fall-2022-workshops/
URL:https://chinesetheatreworks.org/event/shadow-puppetry-i-workshop-at-chicago-international-puppet-theater-festival-3/
END:VEVENT
BEGIN:VEVENT
DTSTART;TZID=America/New_York:20221003T200000
DTEND;TZID=America/New_York:20221003T220000
DTSTAMP:20260420T025517
CREATED:20220922T182458Z
LAST-MODIFIED:20221004T212955Z
UID:10000268-1664827200-1664834400@chinesetheatreworks.org
SUMMARY:Shadow Puppetry I Workshop at Chicago International Puppet Theater Festival
DESCRIPTION:ONLINE \nShadow Puppetry 1 (Level 1) is an introduction to the form for the beginning puppeteer. Students will create a desktop shadow theater\, build and create basic shadow figures and environments and devise their own short pieces with music or text. An overview of world shadow puppetry traditions is included as well as an introduction to light sources and fabrication. The course makes use of basic materials including home recyclables. \nClasses are October 3rd\, 4th\, 6th\, 7th\, 9th 8pm-10pm EST \nLink to register: https://chicagopuppetfest.org/fall-2022-workshops/
URL:https://chinesetheatreworks.org/event/shadow-puppetry-i-workshop-at-chicago-international-puppet-theater-festival-2/
END:VEVENT
BEGIN:VEVENT
DTSTART;TZID=America/New_York:20220920T080000
DTEND;TZID=America/New_York:20220920T170000
DTSTAMP:20260420T025517
CREATED:20220920T202700Z
LAST-MODIFIED:20220920T202700Z
UID:10000270-1663660800-1663693200@chinesetheatreworks.org
SUMMARY:St. Ann's Warehouse
DESCRIPTION:Brooklyn bridge park
URL:https://chinesetheatreworks.org/event/st-anns-warehouse/
END:VEVENT
BEGIN:VEVENT
DTSTART;TZID=America/New_York:20220917T153000
DTEND;TZID=America/New_York:20220917T170000
DTSTAMP:20260420T025517
CREATED:20220908T214858Z
LAST-MODIFIED:20220908T215742Z
UID:10000272-1663428600-1663434000@chinesetheatreworks.org
SUMMARY:Museum of Chinese in America (MOCA)
DESCRIPTION:Moon Festival
URL:https://chinesetheatreworks.org/event/museum-of-chinese-in-america-moca/
END:VEVENT
BEGIN:VEVENT
DTSTART;TZID=America/New_York:20220915T080000
DTEND;TZID=America/New_York:20220915T173000
DTSTAMP:20260420T025517
CREATED:20220908T214351Z
LAST-MODIFIED:20220908T215853Z
UID:10000273-1663228800-1663263000@chinesetheatreworks.org
SUMMARY:IgniVox Productions
DESCRIPTION:Autumn Moon Festival: Hand puppet\, pipa\, KY’s singing\, Lion and drum parade
URL:https://chinesetheatreworks.org/event/ignivox-productions/
END:VEVENT
BEGIN:VEVENT
DTSTART;TZID=America/New_York:20220817T080000
DTEND;TZID=America/New_York:20220817T170000
DTSTAMP:20260420T025517
CREATED:20220706T033246Z
LAST-MODIFIED:20220706T033246Z
UID:10000274-1660723200-1660755600@chinesetheatreworks.org
SUMMARY:China Institute Dance workshops
DESCRIPTION:
URL:https://chinesetheatreworks.org/event/china-institute-dance-workshops/
END:VEVENT
BEGIN:VEVENT
DTSTART;TZID=America/New_York:20220806T080000
DTEND;TZID=America/New_York:20220806T170000
DTSTAMP:20260420T025517
CREATED:20220706T033224Z
LAST-MODIFIED:20220706T033224Z
UID:10000275-1659772800-1659805200@chinesetheatreworks.org
SUMMARY:Elmhurst Library Chinese Music and Dance Show for Children
DESCRIPTION:
URL:https://chinesetheatreworks.org/event/elmhurst-library-chinese-music-and-dance-show-for-children/
END:VEVENT
BEGIN:VEVENT
DTSTART;TZID=America/New_York:20220803T080000
DTEND;TZID=America/New_York:20220803T170000
DTSTAMP:20260420T025517
CREATED:20220706T033154Z
LAST-MODIFIED:20220706T033154Z
UID:10000276-1659513600-1659546000@chinesetheatreworks.org
SUMMARY:China Institute 2 Shadow puppet workshops
DESCRIPTION:
URL:https://chinesetheatreworks.org/event/china-institute-2-shadow-puppet-workshops-2/
END:VEVENT
BEGIN:VEVENT
DTSTART;TZID=America/New_York:20220720T080000
DTEND;TZID=America/New_York:20220720T170000
DTSTAMP:20260420T025517
CREATED:20220706T033055Z
LAST-MODIFIED:20220706T033055Z
UID:10000277-1658304000-1658336400@chinesetheatreworks.org
SUMMARY:China Institute 2 Shadow puppet workshops
DESCRIPTION:
URL:https://chinesetheatreworks.org/event/china-institute-2-shadow-puppet-workshops/
END:VEVENT
END:VCALENDAR