BEGIN:VCALENDAR
VERSION:2.0
PRODID:-//Chinese Theatre Works - ECPv6.15.12.1//NONSGML v1.0//EN
CALSCALE:GREGORIAN
METHOD:PUBLISH
X-WR-CALNAME:Chinese Theatre Works
X-ORIGINAL-URL:https://chinesetheatreworks.org
X-WR-CALDESC:Events for Chinese Theatre Works
REFRESH-INTERVAL;VALUE=DURATION:PT1H
X-Robots-Tag:noindex
X-PUBLISHED-TTL:PT1H
BEGIN:VTIMEZONE
TZID:America/New_York
BEGIN:DAYLIGHT
TZOFFSETFROM:-0500
TZOFFSETTO:-0400
TZNAME:EDT
DTSTART:20210314T070000
END:DAYLIGHT
BEGIN:STANDARD
TZOFFSETFROM:-0400
TZOFFSETTO:-0500
TZNAME:EST
DTSTART:20211107T060000
END:STANDARD
BEGIN:DAYLIGHT
TZOFFSETFROM:-0500
TZOFFSETTO:-0400
TZNAME:EDT
DTSTART:20220313T070000
END:DAYLIGHT
BEGIN:STANDARD
TZOFFSETFROM:-0400
TZOFFSETTO:-0500
TZNAME:EST
DTSTART:20221106T060000
END:STANDARD
BEGIN:DAYLIGHT
TZOFFSETFROM:-0500
TZOFFSETTO:-0400
TZNAME:EDT
DTSTART:20230312T070000
END:DAYLIGHT
BEGIN:STANDARD
TZOFFSETFROM:-0400
TZOFFSETTO:-0500
TZNAME:EST
DTSTART:20231105T060000
END:STANDARD
BEGIN:DAYLIGHT
TZOFFSETFROM:-0500
TZOFFSETTO:-0400
TZNAME:EDT
DTSTART:20240310T070000
END:DAYLIGHT
BEGIN:STANDARD
TZOFFSETFROM:-0400
TZOFFSETTO:-0500
TZNAME:EST
DTSTART:20241103T060000
END:STANDARD
END:VTIMEZONE
BEGIN:VEVENT
DTSTART;TZID=America/New_York:20230120T100000
DTEND;TZID=America/New_York:20230120T120000
DTSTAMP:20260419T234440
CREATED:20221229T213338Z
LAST-MODIFIED:20221229T213518Z
UID:10000311-1674208800-1674216000@chinesetheatreworks.org
SUMMARY:Brunswick School in Greenwich\, CT.
DESCRIPTION:Tiger tales
URL:https://chinesetheatreworks.org/event/brunswick-school-in-greenwich-ct/
END:VEVENT
BEGIN:VEVENT
DTSTART;TZID=America/New_York:20230119T110000
DTEND;TZID=America/New_York:20230119T120000
DTSTAMP:20260419T234440
CREATED:20221109T213111Z
LAST-MODIFIED:20221109T213111Z
UID:10000302-1674126000-1674129600@chinesetheatreworks.org
SUMMARY:CTW present Beijing opera at The Nightingale-Bamford School
DESCRIPTION:Tiger Tales (Premiere 2002) \n \n  \nNot open to general public
URL:https://chinesetheatreworks.org/event/ctw-present-beijing-opera-at-the-nightingale-bamford-school/
END:VEVENT
BEGIN:VEVENT
DTSTART;TZID=America/New_York:20230119T090000
DTEND;TZID=America/New_York:20230119T095500
DTSTAMP:20260419T234440
CREATED:20221109T210428Z
LAST-MODIFIED:20221109T214231Z
UID:10000301-1674118800-1674122100@chinesetheatreworks.org
SUMMARY:CTW present shadow Tiger Tales program at The Nightingale-Bamford School
DESCRIPTION:Tiger Tales (Premiere 2002) \n \n  \nNot open to general public
URL:https://chinesetheatreworks.org/event/ctw-present-shadow-tiger-tales-program-at-the-nightingale-bamford-school/
END:VEVENT
BEGIN:VEVENT
DTSTART;TZID=America/New_York:20230118T160000
DTEND;TZID=America/New_York:20230118T170000
DTSTAMP:20260419T234440
CREATED:20230103T195004Z
LAST-MODIFIED:20230103T195004Z
UID:10000313-1674057600-1674061200@chinesetheatreworks.org
SUMMARY:Tiger Tales Performance at Flushing Library
DESCRIPTION:Location: \n41-17 Main St\, Flushing\, NY 11355
URL:https://chinesetheatreworks.org/event/tiger-tales-performance-at-flushing-library/
END:VEVENT
BEGIN:VEVENT
DTSTART;TZID=America/New_York:20230109T160000
DTEND;TZID=America/New_York:20230109T170000
DTSTAMP:20260419T234440
CREATED:20221121T174421Z
LAST-MODIFIED:20221121T174421Z
UID:10000303-1673280000-1673283600@chinesetheatreworks.org
SUMMARY:Hao Bang Ah! Tiger!
DESCRIPTION:Hao Bang Ah! Tiger! features a fun and lively selection of wild hand puppet skits\, dances\, popular song and well-know Chinese sayings celebrating the wit and wisdom of the Zodiac animals. \nLocation: Queens library Rochdale Village 169-09 137th Ave\, Jamaica\, NY 11434
URL:https://chinesetheatreworks.org/event/hao-bang-ah-tiger-10/
END:VEVENT
BEGIN:VEVENT
DTSTART;TZID=America/New_York:20230103T190000
DTEND;TZID=America/New_York:20230103T220000
DTSTAMP:20260419T234440
CREATED:20221227T192721Z
LAST-MODIFIED:20221227T192721Z
UID:10000305-1672772400-1672783200@chinesetheatreworks.org
SUMMARY:GSW- Spag dinner
DESCRIPTION:“Hao Bang-ah Rabbit!” hand puppet shows
URL:https://chinesetheatreworks.org/event/gsw-spag-dinner/
END:VEVENT
BEGIN:VEVENT
DTSTART;TZID=America/New_York:20221208T150000
DTEND;TZID=America/New_York:20221208T160000
DTSTAMP:20260419T234440
CREATED:20221005T210314Z
LAST-MODIFIED:20221005T210314Z
UID:10000294-1670511600-1670515200@chinesetheatreworks.org
SUMMARY:Hao Bang Ah! Tiger!
DESCRIPTION:Hao Bang Ah! Tiger! features a fun and lively selection of wild hand puppet skits\, dances\, popular song and well-know Chinese sayings celebrating the wit and wisdom of the Zodiac animals. \nLocation: Queens library  North Hills 57-04 Marathon Pkwy\, Flushing\, NY 11362
URL:https://chinesetheatreworks.org/event/hao-bang-ah-tiger-7/
END:VEVENT
BEGIN:VEVENT
DTSTART;TZID=America/New_York:20221118T153000
DTEND;TZID=America/New_York:20221118T163000
DTSTAMP:20260419T234440
CREATED:20221005T210156Z
LAST-MODIFIED:20221005T210156Z
UID:10000293-1668785400-1668789000@chinesetheatreworks.org
SUMMARY:Hao Bang Ah! Tiger!
DESCRIPTION:Hao Bang Ah! Tiger! features a fun and lively selection of wild hand puppet skits\, dances\, popular song and well-know Chinese sayings celebrating the wit and wisdom of the Zodiac animals. \nLocation: Queens library Jackson Heights 35-51 81st St\, Queens\, NY 11372
URL:https://chinesetheatreworks.org/event/hao-bang-ah-tiger-6/
END:VEVENT
BEGIN:VEVENT
DTSTART;TZID=America/New_York:20221116T160000
DTEND;TZID=America/New_York:20221116T160000
DTSTAMP:20260419T234440
CREATED:20221005T210030Z
LAST-MODIFIED:20221005T210030Z
UID:10000292-1668614400-1668614400@chinesetheatreworks.org
SUMMARY:Hao Bang Ah! Tiger!
DESCRIPTION:Hao Bang Ah! Tiger! features a fun and lively selection of wild hand puppet skits\, dances\, popular song and well-know Chinese sayings celebrating the wit and wisdom of the Zodiac animals. \nLocation: Queens Library (East Elmhurst) 95-06 Astoria Blvd\, Queens\, NY 11369
URL:https://chinesetheatreworks.org/event/hao-bang-ah-tiger-5/
END:VEVENT
BEGIN:VEVENT
DTSTART;TZID=America/New_York:20221115T160000
DTEND;TZID=America/New_York:20221115T170000
DTSTAMP:20260419T234440
CREATED:20221005T205820Z
LAST-MODIFIED:20221005T210943Z
UID:10000291-1668528000-1668531600@chinesetheatreworks.org
SUMMARY:Hao Bang Ah! Tiger!
DESCRIPTION:Hao Bang Ah! Tiger! features a fun and lively selection of wild hand puppet skits\, dances\, popular song and well-know Chinese sayings celebrating the wit and wisdom of the Zodiac animals. \nLocation: Queens Library (Poppenhusen) 121-23 14th Ave\, College Point\, NY 11356
URL:https://chinesetheatreworks.org/event/hao-bang-ah-tiger-4/
END:VEVENT
BEGIN:VEVENT
DTSTART;TZID=America/New_York:20221115T094500
DTEND;TZID=America/New_York:20221115T114500
DTSTAMP:20260419T234440
CREATED:20221005T212020Z
LAST-MODIFIED:20221013T150049Z
UID:10000297-1668505500-1668512700@chinesetheatreworks.org
SUMMARY:Shadow lecture and workshop at China institute
DESCRIPTION:CTW’s co-artistic directors\, Kuang-Yu Fong and Stephen Kaplin\, distill their decades of of research and professional experience in creating cross-cultural performances into a dynamic series of talks and demonstrations that explore the aesthetics\, history and contemporary practice of Chinese theater\, puppetry using video\, Powerpoint and video  presentations as well as  hands-on encounters with the performing objects and performance practice\, makes these informative presentations in-depth learning experiences. \n World Shadow Lecture/demo \n A lively\, guided tour by shadow master and designer Stephen Kaplin\, this presentation is a stimulating introduction to the ancient art  of making moving images out of light\, screen  and flat\,  jointed figures. Samples of traditional and modern shadow figures from across a wide range shadow traditions across the globe\, supplemented by photos and videos of performance\, the opportunity for audience to try the shadow figures themselves\, make this an unforgettable learning experience. \n“Not open to general public”
URL:https://chinesetheatreworks.org/event/shadow-lecture-and-workshop/
END:VEVENT
BEGIN:VEVENT
DTSTART;TZID=America/New_York:20221112T153000
DTEND;TZID=America/New_York:20221112T163000
DTSTAMP:20260419T234440
CREATED:20221012T160330Z
LAST-MODIFIED:20221012T160330Z
UID:10000299-1668267000-1668270600@chinesetheatreworks.org
SUMMARY:Hao Bang Ah! Tiger!
DESCRIPTION:Hao Bang Ah! Tiger! features a fun and lively selection of wild hand puppet skits\, dances\, popular song and well-know Chinese sayings celebrating the wit and wisdom of the Zodiac animals. \nLocation: Queens library Flushing 41-17 Main St\, Flushing\, NY 11355
URL:https://chinesetheatreworks.org/event/hao-bang-ah-tiger-9/
END:VEVENT
BEGIN:VEVENT
DTSTART;TZID=America/New_York:20221107T153000
DTEND;TZID=America/New_York:20221107T163000
DTSTAMP:20260419T234440
CREATED:20221012T160050Z
LAST-MODIFIED:20221012T160050Z
UID:10000298-1667835000-1667838600@chinesetheatreworks.org
SUMMARY:Hao Bang Ah! Tiger!
DESCRIPTION:Hao Bang Ah! Tiger! features a fun and lively selection of wild hand puppet skits\, dances\, popular song and well-know Chinese sayings celebrating the wit and wisdom of the Zodiac animals. \nLocation: Queens library Flushing 41-17 Main St\, Flushing\, NY 11355
URL:https://chinesetheatreworks.org/event/hao-bang-ah-tiger-8/
END:VEVENT
BEGIN:VEVENT
DTSTART;TZID=America/New_York:20221105T180000
DTEND;TZID=America/New_York:20221105T190000
DTSTAMP:20260419T234440
CREATED:20221005T211503Z
LAST-MODIFIED:20221012T161305Z
UID:10000296-1667671200-1667674800@chinesetheatreworks.org
SUMMARY:Four Treasures
DESCRIPTION:CTW will perform Four Treasures for Hunter College High School Chinese Parents Association\, Inc \nChinese Theatre Works’ traditional performing arts variety programs present a broad\ncross section of classical and folk performing arts including scenes from Chinese operas\,\nmusic and dance. All programs feature our company of extraordinary Chinese opera performers\nand musicians\, who are highly skilled in performing the traditional repertoire. They also\ninclude entertaining and informative introductions to each presentation. \n“Not open to general public”
URL:https://chinesetheatreworks.org/event/four-treasures/
END:VEVENT
BEGIN:VEVENT
DTSTART;TZID=America/New_York:20221101T160000
DTEND;TZID=America/New_York:20221101T170000
DTSTAMP:20260419T234440
CREATED:20221005T205539Z
LAST-MODIFIED:20221005T205539Z
UID:10000290-1667318400-1667322000@chinesetheatreworks.org
SUMMARY:Hao Bang Ah! Tiger!
DESCRIPTION:Hao Bang Ah! Tiger! features a fun and lively selection of wild hand puppet skits\, dances\, popular song and well-know Chinese sayings celebrating the wit and wisdom of the Zodiac animals. \nLocation: Queen Library (Elmhurst) 86-07 Broadway\, Queens\, NY 11373
URL:https://chinesetheatreworks.org/event/hao-bang-ah-tiger-3/
END:VEVENT
BEGIN:VEVENT
DTSTART;TZID=America/New_York:20221031T160000
DTEND;TZID=America/New_York:20221031T170000
DTSTAMP:20260419T234440
CREATED:20221005T205359Z
LAST-MODIFIED:20221005T205359Z
UID:10000289-1667232000-1667235600@chinesetheatreworks.org
SUMMARY:Dumboween 2022!
DESCRIPTION:CTW will perform Zhongkui \nLocation: ​The Dumbo Archway \nhttps://dumbo.is/celebrating-dumboween
URL:https://chinesetheatreworks.org/event/dumboween-2022/
END:VEVENT
BEGIN:VEVENT
DTSTART;TZID=America/New_York:20221026T150000
DTEND;TZID=America/New_York:20221026T163000
DTSTAMP:20260419T234440
CREATED:20221005T204941Z
LAST-MODIFIED:20221005T204941Z
UID:10000278-1666796400-1666801800@chinesetheatreworks.org
SUMMARY:Hao Bang Ah! Tiger!
DESCRIPTION:Hao Bang Ah! Tiger! features a fun and lively selection of wild hand puppet skits\, dances\, popular song and well-know Chinese sayings celebrating the wit and wisdom of the Zodiac animals. \nLocation: Queens Library (Rego Park) 91-41 63rd Dr\, Rego Park\, NY 11374
URL:https://chinesetheatreworks.org/event/hao-bang-ah-tiger-2/
END:VEVENT
BEGIN:VEVENT
DTSTART;TZID=America/New_York:20221022T103000
DTEND;TZID=America/New_York:20221022T143000
DTSTAMP:20260419T234440
CREATED:20221014T193532Z
LAST-MODIFIED:20221014T211321Z
UID:10000300-1666434600-1666449000@chinesetheatreworks.org
SUMMARY:Brooklyn Festival of Arts and Music
DESCRIPTION:CTW will perform hand puppet with live music\,  Zhongkui\, lion and dragon dance \nLocation: Boathouse Audubon Center\, 101 East Dr\, Brooklyn\, NY 11225\, USA \nhttps://www.prospectpark.org/news-events/events/brooklyn-fam/
URL:https://chinesetheatreworks.org/event/brooklyn-fam/
END:VEVENT
BEGIN:VEVENT
DTSTART;TZID=America/New_York:20221014T153000
DTEND;TZID=America/New_York:20221014T163000
DTSTAMP:20260419T234440
CREATED:20221005T204733Z
LAST-MODIFIED:20221005T204733Z
UID:10000279-1665761400-1665765000@chinesetheatreworks.org
SUMMARY:Hao Bang Ah! Tiger!
DESCRIPTION:Hao Bang Ah! Tiger! features a fun and lively selection of wild hand puppet skits\, dances\, popular song and well-know Chinese sayings celebrating the wit and wisdom of the Zodiac animals.  \nLocation: Queens Library (Pomonok) 158-21 Jewel Ave\, Flushing\, NY 11365
URL:https://chinesetheatreworks.org/event/hao-bang-ah-tiger/
END:VEVENT
BEGIN:VEVENT
DTSTART;TZID=America/New_York:20221013T094500
DTEND;TZID=America/New_York:20221013T104500
DTSTAMP:20260419T234440
CREATED:20220922T183200Z
LAST-MODIFIED:20221012T160847Z
UID:10000285-1665654300-1665657900@chinesetheatreworks.org
SUMMARY:Shadow Theatre Lecture/Demo at China institute
DESCRIPTION:CTW’s co-artistic directors\, Kuang-Yu Fong and Stephen Kaplin\, distill their decades of of research and professional experience in creating cross-cultural performances into a dynamic series of talks and demonstrations that explore the aesthetics\, history and contemporary practice of Chinese theater\, puppetry using video\, Powerpoint and video  presentations as well as  hands-on encounters with the performing objects and performance practice\, makes these informative presentations in-depth learning experiences. \n World Shadow Lecture/demo \n A lively\, guided tour by shadow master and designer Stephen Kaplin\, this presentation is a stimulating introduction to the ancient art  of making moving images out of light\, screen  and flat\,  jointed figures. Samples of traditional and modern shadow figures from across a wide range shadow traditions across the globe\, supplemented by photos and videos of performance\, the opportunity for audience to try the shadow figures themselves\, make this an unforgettable learning experience. \n“Not open to general public”
URL:https://chinesetheatreworks.org/event/shadow-lecture-demo-at-china-institute/
END:VEVENT
BEGIN:VEVENT
DTSTART;TZID=America/New_York:20221012T102500
DTEND;TZID=America/New_York:20221012T114000
DTSTAMP:20260419T234440
CREATED:20221005T203851Z
LAST-MODIFIED:20221013T145034Z
UID:10000280-1665570300-1665574800@chinesetheatreworks.org
SUMMARY:Drew University in Madison NJ
DESCRIPTION:CTW will teach class covering the history\, artistry and movements of Peking Opera. \n“Not open to general public”
URL:https://chinesetheatreworks.org/event/drew-university-in-madison-nj/
END:VEVENT
BEGIN:VEVENT
DTSTART;TZID=America/New_York:20221009T200000
DTEND;TZID=America/New_York:20221009T220000
DTSTAMP:20260419T234440
CREATED:20220922T182346Z
LAST-MODIFIED:20221004T212433Z
UID:10000269-1665345600-1665352800@chinesetheatreworks.org
SUMMARY:Shadow Puppetry I Workshop at Chicago International Puppet Theater Festival
DESCRIPTION:ONLINE \nShadow Puppetry 1 (Level 1) is an introduction to the form for the beginning puppeteer. Students will create a desktop shadow theater\, build and create basic shadow figures and environments and devise their own short pieces with music or text. An overview of world shadow puppetry traditions is included as well as an introduction to light sources and fabrication. The course makes use of basic materials including home recyclables. \nClasses are October 3rd\, 4th\, 6th\, 7th\, 9th 8pm-10pm EST \nLink to register: https://chicagopuppetfest.org/fall-2022-workshops/
URL:https://chinesetheatreworks.org/event/shadow-puppetry-i-workshop-at-chicago-international-puppet-theater-festival/
END:VEVENT
BEGIN:VEVENT
DTSTART;TZID=America/New_York:20221009T130000
DTEND;TZID=America/New_York:20221009T140000
DTSTAMP:20260419T234440
CREATED:20221005T202713Z
LAST-MODIFIED:20221005T203430Z
UID:10000281-1665320400-1665324000@chinesetheatreworks.org
SUMMARY:Puppet Homecoming NE Regional Festival 2022
DESCRIPTION:CTW Executive & Co-Artistic Director\, Kuang Yu-Fong\, joins in on a panel discussing pageant puppetry. \nLocation: Coney Island Museum \nhttps://www.puppeteers.org/puppet-homecoming/
URL:https://chinesetheatreworks.org/event/puppet-homecoming-ne-regional-festival-2022/
END:VEVENT
BEGIN:VEVENT
DTSTART;TZID=America/New_York:20221008T190000
DTEND;TZID=America/New_York:20221008T220000
DTSTAMP:20260419T234440
CREATED:20221005T202235Z
LAST-MODIFIED:20221005T202235Z
UID:10000282-1665255600-1665266400@chinesetheatreworks.org
SUMMARY:Puppet Homecoming NE Regional Festival 2022 (GSW)
DESCRIPTION:CTW will perform Triple Zhongkui Pageant \nTriple Zhongkui Pageant is a unique piece of theater that blends several CTW performance styles. This production is at once a lively piece of bilingual street theater\, a demonstration of a 500 year old performance tradition\, and a slice of ridiculous political satire\nLocation: Coney Island Museum
URL:https://chinesetheatreworks.org/event/puppet-homecoming-ne-regional-festival-2022-gsw/
END:VEVENT
BEGIN:VEVENT
DTSTART;TZID=America/New_York:20221008T110000
DTEND;TZID=America/New_York:20221008T150000
DTSTAMP:20260419T234440
CREATED:20220908T215657Z
LAST-MODIFIED:20221004T214113Z
UID:10000271-1665226800-1665241200@chinesetheatreworks.org
SUMMARY:Taipei Cultural Center of Economic and Cultural Office in New York
DESCRIPTION:Event Title: Celebrate Independence Day of republic of China \nLocation: PS 20 (Cafeteria – Main Student Café West 3rd Floor) \nHands on workshop for shadow theater and hand puppets theater\, all ages welcome
URL:https://chinesetheatreworks.org/event/culture-center-of-taipei-economic-and-cultural-office-in-new-york/
LOCATION:Culture Center of Taipei Economic and Cultural Office in New York\, PS 20 (Cafeteria – Main Student Café West 3rd Floor)
END:VEVENT
BEGIN:VEVENT
DTSTART;TZID=America/New_York:20221007T200000
DTEND;TZID=America/New_York:20221007T220000
DTSTAMP:20260419T234440
CREATED:20221005T201323Z
LAST-MODIFIED:20221005T201323Z
UID:10000283-1665172800-1665180000@chinesetheatreworks.org
SUMMARY:Shadow Puppetry I Workshop at Chicago International Puppet Theater Festival
DESCRIPTION:ONLINE \nShadow Puppetry 1 (Level 1) is an introduction to the form for the beginning puppeteer. Students will create a desktop shadow theater\, build and create basic shadow figures and environments and devise their own short pieces with music or text. An overview of world shadow puppetry traditions is included as well as an introduction to light sources and fabrication. The course makes use of basic materials including home recyclables. \nClasses are October 3rd\, 4th\, 6th\, 7th\, 9th 8pm-10pm EST \nLink to register: https://chicagopuppetfest.org/fall-2022-workshops/
URL:https://chinesetheatreworks.org/event/shadow-puppetry-i-workshop-at-chicago-international-puppet-theater-festival-6/
END:VEVENT
BEGIN:VEVENT
DTSTART;TZID=America/New_York:20221007T150000
DTEND;TZID=America/New_York:20221007T160000
DTSTAMP:20260419T234440
CREATED:20221004T213437Z
LAST-MODIFIED:20221005T200902Z
UID:10000284-1665154800-1665158400@chinesetheatreworks.org
SUMMARY:Puppet Homecoming NE Regional Festival 2022
DESCRIPTION:CTW Co-Artistic Director\, Stephen Kaplin\, joins in on a panel discussing pageant puppetry.\nLocation: Coney Island Museum \nhttps://www.puppeteers.org/puppet-homecoming/
URL:https://chinesetheatreworks.org/event/shadow-puppetry-i-workshop-at-chicago-international-puppet-theater-festival-5/
END:VEVENT
BEGIN:VEVENT
DTSTART;TZID=America/New_York:20221006T200000
DTEND;TZID=America/New_York:20221006T220000
DTSTAMP:20260419T234440
CREATED:20220922T182620Z
LAST-MODIFIED:20221004T212612Z
UID:10000286-1665086400-1665093600@chinesetheatreworks.org
SUMMARY:Shadow Puppetry I Workshop at Chicago International Puppet Theater Festival
DESCRIPTION:ONLINE \nShadow Puppetry 1 (Level 1) is an introduction to the form for the beginning puppeteer. Students will create a desktop shadow theater\, build and create basic shadow figures and environments and devise their own short pieces with music or text. An overview of world shadow puppetry traditions is included as well as an introduction to light sources and fabrication. The course makes use of basic materials including home recyclables. \nClasses are October 3rd\, 4th\, 6th\, 7th\, 9th 8pm-10pm EST \nLink to register: https://chicagopuppetfest.org/fall-2022-workshops/
URL:https://chinesetheatreworks.org/event/shadow-puppetry-i-workshop-at-chicago-international-puppet-theater-festival-4/
END:VEVENT
BEGIN:VEVENT
DTSTART;TZID=America/New_York:20221004T200000
DTEND;TZID=America/New_York:20221004T220000
DTSTAMP:20260419T234440
CREATED:20220922T182551Z
LAST-MODIFIED:20221004T212921Z
UID:10000287-1664913600-1664920800@chinesetheatreworks.org
SUMMARY:Shadow Puppetry I Workshop at Chicago International Puppet Theater Festival
DESCRIPTION:ONLINE \nShadow Puppetry 1 (Level 1) is an introduction to the form for the beginning puppeteer. Students will create a desktop shadow theater\, build and create basic shadow figures and environments and devise their own short pieces with music or text. An overview of world shadow puppetry traditions is included as well as an introduction to light sources and fabrication. The course makes use of basic materials including home recyclables. \nClasses are October 3rd\, 4th\, 6th\, 7th\, 9th 8pm-10pm EST \nLink to register: https://chicagopuppetfest.org/fall-2022-workshops/
URL:https://chinesetheatreworks.org/event/shadow-puppetry-i-workshop-at-chicago-international-puppet-theater-festival-3/
END:VEVENT
BEGIN:VEVENT
DTSTART;TZID=America/New_York:20221003T200000
DTEND;TZID=America/New_York:20221003T220000
DTSTAMP:20260419T234440
CREATED:20220922T182458Z
LAST-MODIFIED:20221004T212955Z
UID:10000268-1664827200-1664834400@chinesetheatreworks.org
SUMMARY:Shadow Puppetry I Workshop at Chicago International Puppet Theater Festival
DESCRIPTION:ONLINE \nShadow Puppetry 1 (Level 1) is an introduction to the form for the beginning puppeteer. Students will create a desktop shadow theater\, build and create basic shadow figures and environments and devise their own short pieces with music or text. An overview of world shadow puppetry traditions is included as well as an introduction to light sources and fabrication. The course makes use of basic materials including home recyclables. \nClasses are October 3rd\, 4th\, 6th\, 7th\, 9th 8pm-10pm EST \nLink to register: https://chicagopuppetfest.org/fall-2022-workshops/
URL:https://chinesetheatreworks.org/event/shadow-puppetry-i-workshop-at-chicago-international-puppet-theater-festival-2/
END:VEVENT
END:VCALENDAR