BEGIN:VCALENDAR
VERSION:2.0
PRODID:-//Chinese Theatre Works - ECPv6.15.12.1//NONSGML v1.0//EN
CALSCALE:GREGORIAN
METHOD:PUBLISH
X-ORIGINAL-URL:https://chinesetheatreworks.org
X-WR-CALDESC:Events for Chinese Theatre Works
REFRESH-INTERVAL;VALUE=DURATION:PT1H
X-Robots-Tag:noindex
X-PUBLISHED-TTL:PT1H
BEGIN:VTIMEZONE
TZID:America/New_York
BEGIN:DAYLIGHT
TZOFFSETFROM:-0500
TZOFFSETTO:-0400
TZNAME:EDT
DTSTART:20250309T070000
END:DAYLIGHT
BEGIN:STANDARD
TZOFFSETFROM:-0400
TZOFFSETTO:-0500
TZNAME:EST
DTSTART:20251102T060000
END:STANDARD
BEGIN:DAYLIGHT
TZOFFSETFROM:-0500
TZOFFSETTO:-0400
TZNAME:EDT
DTSTART:20260308T070000
END:DAYLIGHT
BEGIN:STANDARD
TZOFFSETFROM:-0400
TZOFFSETTO:-0500
TZNAME:EST
DTSTART:20261101T060000
END:STANDARD
BEGIN:DAYLIGHT
TZOFFSETFROM:-0500
TZOFFSETTO:-0400
TZNAME:EDT
DTSTART:20270314T070000
END:DAYLIGHT
BEGIN:STANDARD
TZOFFSETFROM:-0400
TZOFFSETTO:-0500
TZNAME:EST
DTSTART:20271107T060000
END:STANDARD
END:VTIMEZONE
BEGIN:VEVENT
DTSTART;TZID=America/New_York:20260513T150000
DTEND;TZID=America/New_York:20260513T160000
DTSTAMP:20260419T095459
CREATED:20260107T165127Z
LAST-MODIFIED:20260107T165127Z
UID:10000584-1778684400-1778688000@chinesetheatreworks.org
SUMMARY:Fox Borrows the Tiger’s Shadow at Whitestone Library
DESCRIPTION:Address: \n151-10 14th Rd\, Whitestone\, NY 11357
URL:https://chinesetheatreworks.org/event/fox-borrows-the-tigers-shadow-at-whitestone-library/
END:VEVENT
BEGIN:VEVENT
DTSTART;TZID=America/New_York:20260513T150000
DTEND;TZID=America/New_York:20260513T160000
DTSTAMP:20260419T095459
CREATED:20260120T224023Z
LAST-MODIFIED:20260120T224023Z
UID:10000589-1778684400-1778688000@chinesetheatreworks.org
SUMMARY:Fox Borrows the Tiger’s Shadow (Shadow Theatre Demonstration) at Whitestone Library
DESCRIPTION:Address: \n151-10 14th Rd\, Whitestone\, NY 11357
URL:https://chinesetheatreworks.org/event/fox-borrows-the-tigers-shadow-shadow-theatre-demonstration-at-whitestone-library/
END:VEVENT
END:VCALENDAR