BEGIN:VCALENDAR
VERSION:2.0
PRODID:-//Chinese Theatre Works - ECPv6.15.12.1//NONSGML v1.0//EN
CALSCALE:GREGORIAN
METHOD:PUBLISH
X-ORIGINAL-URL:https://chinesetheatreworks.org
X-WR-CALDESC:Events for Chinese Theatre Works
REFRESH-INTERVAL;VALUE=DURATION:PT1H
X-Robots-Tag:noindex
X-PUBLISHED-TTL:PT1H
BEGIN:VTIMEZONE
TZID:America/New_York
BEGIN:DAYLIGHT
TZOFFSETFROM:-0500
TZOFFSETTO:-0400
TZNAME:EDT
DTSTART:20230312T070000
END:DAYLIGHT
BEGIN:STANDARD
TZOFFSETFROM:-0400
TZOFFSETTO:-0500
TZNAME:EST
DTSTART:20231105T060000
END:STANDARD
BEGIN:DAYLIGHT
TZOFFSETFROM:-0500
TZOFFSETTO:-0400
TZNAME:EDT
DTSTART:20240310T070000
END:DAYLIGHT
BEGIN:STANDARD
TZOFFSETFROM:-0400
TZOFFSETTO:-0500
TZNAME:EST
DTSTART:20241103T060000
END:STANDARD
BEGIN:DAYLIGHT
TZOFFSETFROM:-0500
TZOFFSETTO:-0400
TZNAME:EDT
DTSTART:20250309T070000
END:DAYLIGHT
BEGIN:STANDARD
TZOFFSETFROM:-0400
TZOFFSETTO:-0500
TZNAME:EST
DTSTART:20251102T060000
END:STANDARD
END:VTIMEZONE
BEGIN:VEVENT
DTSTART;TZID=America/New_York:20240502T110000
DTEND;TZID=America/New_York:20240502T130000
DTSTAMP:20260419T170307
CREATED:20240314T164329Z
LAST-MODIFIED:20240419T202739Z
UID:10000364-1714647600-1714654800@chinesetheatreworks.org
SUMMARY:DFW-Sino US Cultural Association\, Online Lecture about CTW
DESCRIPTION:
URL:https://chinesetheatreworks.org/event/dfw-sino-us-cultural-association-online-lecture-about-ctw/
END:VEVENT
BEGIN:VEVENT
DTSTART;TZID=America/New_York:20240502T150000
DTEND;TZID=America/New_York:20240502T160000
DTSTAMP:20260419T170307
CREATED:20240314T195951Z
LAST-MODIFIED:20240314T195951Z
UID:10000367-1714662000-1714665600@chinesetheatreworks.org
SUMMARY:Zhong Kui performance at Elmhurst library
DESCRIPTION:Address: 86-07 Broadway\, Queens\, NY 11373
URL:https://chinesetheatreworks.org/event/zhong-kui-performance-at-elmhurst-library/
END:VEVENT
END:VCALENDAR