BEGIN:VCALENDAR
VERSION:2.0
PRODID:-//Chinese Theatre Works - ECPv6.15.12.1//NONSGML v1.0//EN
CALSCALE:GREGORIAN
METHOD:PUBLISH
X-WR-CALNAME:Chinese Theatre Works
X-ORIGINAL-URL:https://chinesetheatreworks.org
X-WR-CALDESC:Events for Chinese Theatre Works
REFRESH-INTERVAL;VALUE=DURATION:PT1H
X-Robots-Tag:noindex
X-PUBLISHED-TTL:PT1H
BEGIN:VTIMEZONE
TZID:America/New_York
BEGIN:DAYLIGHT
TZOFFSETFROM:-0500
TZOFFSETTO:-0400
TZNAME:EDT
DTSTART:20210314T070000
END:DAYLIGHT
BEGIN:STANDARD
TZOFFSETFROM:-0400
TZOFFSETTO:-0500
TZNAME:EST
DTSTART:20211107T060000
END:STANDARD
BEGIN:DAYLIGHT
TZOFFSETFROM:-0500
TZOFFSETTO:-0400
TZNAME:EDT
DTSTART:20220313T070000
END:DAYLIGHT
BEGIN:STANDARD
TZOFFSETFROM:-0400
TZOFFSETTO:-0500
TZNAME:EST
DTSTART:20221106T060000
END:STANDARD
BEGIN:DAYLIGHT
TZOFFSETFROM:-0500
TZOFFSETTO:-0400
TZNAME:EDT
DTSTART:20230312T070000
END:DAYLIGHT
BEGIN:STANDARD
TZOFFSETFROM:-0400
TZOFFSETTO:-0500
TZNAME:EST
DTSTART:20231105T060000
END:STANDARD
END:VTIMEZONE
BEGIN:VEVENT
DTSTART;TZID=America/New_York:20221013T094500
DTEND;TZID=America/New_York:20221013T104500
DTSTAMP:20260417T175049
CREATED:20220922T183200Z
LAST-MODIFIED:20221012T160847Z
UID:3424-1665654300-1665657900@chinesetheatreworks.org
SUMMARY:Shadow Theatre Lecture/Demo at China institute
DESCRIPTION:CTW’s co-artistic directors\, Kuang-Yu Fong and Stephen Kaplin\, distill their decades of of research and professional experience in creating cross-cultural performances into a dynamic series of talks and demonstrations that explore the aesthetics\, history and contemporary practice of Chinese theater\, puppetry using video\, Powerpoint and video  presentations as well as  hands-on encounters with the performing objects and performance practice\, makes these informative presentations in-depth learning experiences. \n World Shadow Lecture/demo \n A lively\, guided tour by shadow master and designer Stephen Kaplin\, this presentation is a stimulating introduction to the ancient art  of making moving images out of light\, screen  and flat\,  jointed figures. Samples of traditional and modern shadow figures from across a wide range shadow traditions across the globe\, supplemented by photos and videos of performance\, the opportunity for audience to try the shadow figures themselves\, make this an unforgettable learning experience. \n“Not open to general public”
URL:https://chinesetheatreworks.org/event/shadow-lecture-demo-at-china-institute/
END:VEVENT
END:VCALENDAR