BEGIN:VCALENDAR
VERSION:2.0
PRODID:-//Chinese Theatre Works - ECPv6.15.12.1//NONSGML v1.0//EN
CALSCALE:GREGORIAN
METHOD:PUBLISH
X-WR-CALNAME:Chinese Theatre Works
X-ORIGINAL-URL:https://chinesetheatreworks.org
X-WR-CALDESC:Events for Chinese Theatre Works
REFRESH-INTERVAL;VALUE=DURATION:PT1H
X-Robots-Tag:noindex
X-PUBLISHED-TTL:PT1H
BEGIN:VTIMEZONE
TZID:America/New_York
BEGIN:DAYLIGHT
TZOFFSETFROM:-0500
TZOFFSETTO:-0400
TZNAME:EDT
DTSTART:20220313T070000
END:DAYLIGHT
BEGIN:STANDARD
TZOFFSETFROM:-0400
TZOFFSETTO:-0500
TZNAME:EST
DTSTART:20221106T060000
END:STANDARD
BEGIN:DAYLIGHT
TZOFFSETFROM:-0500
TZOFFSETTO:-0400
TZNAME:EDT
DTSTART:20230312T070000
END:DAYLIGHT
BEGIN:STANDARD
TZOFFSETFROM:-0400
TZOFFSETTO:-0500
TZNAME:EST
DTSTART:20231105T060000
END:STANDARD
BEGIN:DAYLIGHT
TZOFFSETFROM:-0500
TZOFFSETTO:-0400
TZNAME:EDT
DTSTART:20240310T070000
END:DAYLIGHT
BEGIN:STANDARD
TZOFFSETFROM:-0400
TZOFFSETTO:-0500
TZNAME:EST
DTSTART:20241103T060000
END:STANDARD
END:VTIMEZONE
BEGIN:VEVENT
DTSTART;TZID=America/New_York:20230131T090000
DTEND;TZID=America/New_York:20230131T133000
DTSTAMP:20260418T001543
CREATED:20230111T203925Z
LAST-MODIFIED:20230111T204219Z
UID:4131-1675155600-1675171800@chinesetheatreworks.org
SUMMARY:Performance Tiger TalesI at I.S. 187 The Christa Mcauliffe School
DESCRIPTION:Tiger Tales \nWritten by Kuang-Yu Fong\, Stephen Kaplin and Ron Sopyla \nDirected by Kuang-Yu Fong  and Stephen Kaplin                  \nDrawing on China’s two-thousand-year history of shadow puppetry\, Tiger Tales features an artful blend of Eastern and Western\, ancient and contemporary techniques that is the hallmark of all CTW productions.  It is a show that excites audiences of all ages and has been widely acclaimed and performed across America\, South Korea\, Taiwan and China\, notably at the 2005 First International Shadow Play Festival in Tangshan\, China\, where it won citations for Best Performance\, Best Short Plays\, and Best Voice-Over Narration. At the 2009 Shanghai International Puppet Festival\, Tiger Tales was honored with awards for Best Directing\, Best Puppet Design and Arts Innovation. Tiger Tales is performed in English accompanied by traditional Chinese music. \nBased on popular Chinese folktales and literature\, the story deals humorously with issues of power and survival of the small and powerless in the modern jungle\, in which the proverb\, “working for the emperor is as dangerous as working for the tiger” still holds true.  The stories are narrated by a wise old rabbit\, telling her granddaughter some of the adventures of her eventful life\, including her hair-raising encounters with Tiger\, the reigning King of the Jungle.   \n \n 
URL:https://chinesetheatreworks.org/event/performance-tiger-talesi-at-i-s-187-the-christa-mcauliffe-school/
END:VEVENT
END:VCALENDAR