BEGIN:VCALENDAR
VERSION:2.0
PRODID:-//Chinese Theatre Works - ECPv6.15.12.1//NONSGML v1.0//EN
CALSCALE:GREGORIAN
METHOD:PUBLISH
X-WR-CALNAME:Chinese Theatre Works
X-ORIGINAL-URL:https://chinesetheatreworks.org
X-WR-CALDESC:Events for Chinese Theatre Works
REFRESH-INTERVAL;VALUE=DURATION:PT1H
X-Robots-Tag:noindex
X-PUBLISHED-TTL:PT1H
BEGIN:VTIMEZONE
TZID:America/New_York
BEGIN:DAYLIGHT
TZOFFSETFROM:-0500
TZOFFSETTO:-0400
TZNAME:EDT
DTSTART:20220313T070000
END:DAYLIGHT
BEGIN:STANDARD
TZOFFSETFROM:-0400
TZOFFSETTO:-0500
TZNAME:EST
DTSTART:20221106T060000
END:STANDARD
BEGIN:DAYLIGHT
TZOFFSETFROM:-0500
TZOFFSETTO:-0400
TZNAME:EDT
DTSTART:20230312T070000
END:DAYLIGHT
BEGIN:STANDARD
TZOFFSETFROM:-0400
TZOFFSETTO:-0500
TZNAME:EST
DTSTART:20231105T060000
END:STANDARD
BEGIN:DAYLIGHT
TZOFFSETFROM:-0500
TZOFFSETTO:-0400
TZNAME:EDT
DTSTART:20240310T070000
END:DAYLIGHT
BEGIN:STANDARD
TZOFFSETFROM:-0400
TZOFFSETTO:-0500
TZNAME:EST
DTSTART:20241103T060000
END:STANDARD
END:VTIMEZONE
BEGIN:VEVENT
DTSTART;TZID=America/New_York:20230127T153000
DTEND;TZID=America/New_York:20230127T163000
DTSTAMP:20260420T044447
CREATED:20221201T170426Z
LAST-MODIFIED:20221201T172556Z
UID:3833-1674833400-1674837000@chinesetheatreworks.org
SUMMARY:HAO Bang AH\, Rabbit!
DESCRIPTION:HAO BANG-AH\, RABBIT! \nWritten and Directed by: Kuang-Yu Fong and Stephen Kaplin \nPuppet Design and Construction by: Stephen Kaplin \n “Hao Bang Ah” is a common Chinese expression meaning “Great!” or “Well done!”  Each year\, CTW celebrates the Lunar New Year season with an original “budaixi” (traditional Chinese glove-puppet) production that features the 12 animals of the Chinese Zodiac. This year’s production stars the Rabbit\, who will preside over a jolly selection of wild puppet skits\, dances\, popular songs  and well-known Chinese sayings celebrating the wit and wisdom of the Zodiac animals. \n Audiences will be introduced to traditional Chinese New Year customs and foods (red envelopes\, fish and “nian gao”). Sing-alongs\, games\, and a hands-on post-show hands-on demonstration will make the Chinese language and cultural experience accessible to even the youngest audience members \n  
URL:https://chinesetheatreworks.org/event/hao-bang-ah-rabbit/
LOCATION:Jackson Heights Library\, 35-51 81st St\, Queens\, NY\, 11372\, United States
END:VEVENT
END:VCALENDAR