BEGIN:VCALENDAR
VERSION:2.0
PRODID:-//Chinese Theatre Works - ECPv6.15.12.1//NONSGML v1.0//EN
CALSCALE:GREGORIAN
METHOD:PUBLISH
X-WR-CALNAME:Chinese Theatre Works
X-ORIGINAL-URL:https://chinesetheatreworks.org
X-WR-CALDESC:Events for Chinese Theatre Works
REFRESH-INTERVAL;VALUE=DURATION:PT1H
X-Robots-Tag:noindex
X-PUBLISHED-TTL:PT1H
BEGIN:VTIMEZONE
TZID:America/New_York
BEGIN:DAYLIGHT
TZOFFSETFROM:-0500
TZOFFSETTO:-0400
TZNAME:EDT
DTSTART:20210314T070000
END:DAYLIGHT
BEGIN:STANDARD
TZOFFSETFROM:-0400
TZOFFSETTO:-0500
TZNAME:EST
DTSTART:20211107T060000
END:STANDARD
BEGIN:DAYLIGHT
TZOFFSETFROM:-0500
TZOFFSETTO:-0400
TZNAME:EDT
DTSTART:20220313T070000
END:DAYLIGHT
BEGIN:STANDARD
TZOFFSETFROM:-0400
TZOFFSETTO:-0500
TZNAME:EST
DTSTART:20221106T060000
END:STANDARD
BEGIN:DAYLIGHT
TZOFFSETFROM:-0500
TZOFFSETTO:-0400
TZNAME:EDT
DTSTART:20230312T070000
END:DAYLIGHT
BEGIN:STANDARD
TZOFFSETFROM:-0400
TZOFFSETTO:-0500
TZNAME:EST
DTSTART:20231105T060000
END:STANDARD
END:VTIMEZONE
BEGIN:VEVENT
DTSTART;TZID=America/New_York:20221008T110000
DTEND;TZID=America/New_York:20221008T150000
DTSTAMP:20260418T021640
CREATED:20220908T215657Z
LAST-MODIFIED:20221004T214113Z
UID:2941-1665226800-1665241200@chinesetheatreworks.org
SUMMARY:Taipei Cultural Center of Economic and Cultural Office in New York
DESCRIPTION:Event Title: Celebrate Independence Day of republic of China \nLocation: PS 20 (Cafeteria – Main Student Café West 3rd Floor) \nHands on workshop for shadow theater and hand puppets theater\, all ages welcome
URL:https://chinesetheatreworks.org/event/culture-center-of-taipei-economic-and-cultural-office-in-new-york/
LOCATION:Culture Center of Taipei Economic and Cultural Office in New York\, PS 20 (Cafeteria – Main Student Café West 3rd Floor)
END:VEVENT
END:VCALENDAR